Workbook
Name aa: #REF!
Name qq: #REF!
Name 吕: #REF!

Sheet 拨付表
A1: 2025年1月残疾人两项补贴拨付表
C2: 45664
A3: 乡（镇） | B3: 人数 | C3: 金额（元）
A4: 大由乡 | B4: =[1]花名册!B465 -> 461 | C4: =[1]花名册!M465 -> 64700
A5: 丰山乡 | B5: =[1]花名册!B818 -> 352 | C5: =[1]花名册!M818 -> 48600
A6: 赣江源镇 | B6: =[1]花名册!B1194 -> 375 | C6: =[1]花名册!M1194 -> 51200
A7: 高田镇 | B7: =[1]花名册!B1563 -> 368 | C7: =[1]花名册!M1563 -> 50400
A8: 横江镇 | B8: =[1]花名册!B2009 -> 445 | C8: =[1]花名册!M2009 -> 62300
A9: 龙岗乡 | B9: =[1]花名册!B2231 -> 221 | C9: =[1]花名册!M2231 -> 31700
A10: 木兰乡 | B10: =[1]花名册!B2478 -> 246 | C10: =[1]花名册!M2478 -> 33100
A11: 屏山镇 | B11: =[1]花名册!B3153 -> 674 | C11: =[1]花名册!M3153 -> 93200
A12: 琴江镇 | B12: =[1]花名册!B4028 -> 874 | C12: =[1]花名册!M4028 -> 119700
A13: 城市社区管委会 | B13: =[1]花名册!B4566 -> 537 | C13: =[1]花名册!M4566 -> 72500
A14: 小松镇 | B14: =[1]花名册!B5259 -> 692 | C14: =[1]花名册!M5259 -> 94400
A15: 珠坑乡 | B15: =[1]花名册!B5583 -> 323 | C15: =[1]花名册!M5583 -> 46400
A16: 合计 | B16: =SUM(B4:B15) -> 5568 | C16: =SUM(C4:C15) -> 768200
A17: 县民政局： 领导签字： 分管领导： 复核： 制表：谢超
A18: 县残联： 领导签字： 复核：
